BEGIN:VCALENDAR
VERSION:2.0
PRODID:-//Stepping Stone Nova Scotia - ECPv6.15.14//NONSGML v1.0//EN
CALSCALE:GREGORIAN
METHOD:PUBLISH
X-WR-CALNAME:Stepping Stone Nova Scotia
X-ORIGINAL-URL:https://steppingstonens.ca
X-WR-CALDESC:Events for Stepping Stone Nova Scotia
REFRESH-INTERVAL;VALUE=DURATION:PT1H
X-Robots-Tag:noindex
X-PUBLISHED-TTL:PT1H
BEGIN:VTIMEZONE
TZID:America/Halifax
BEGIN:DAYLIGHT
TZOFFSETFROM:-0400
TZOFFSETTO:-0300
TZNAME:ADT
DTSTART:20210314T060000
END:DAYLIGHT
BEGIN:STANDARD
TZOFFSETFROM:-0300
TZOFFSETTO:-0400
TZNAME:AST
DTSTART:20211107T050000
END:STANDARD
BEGIN:DAYLIGHT
TZOFFSETFROM:-0400
TZOFFSETTO:-0300
TZNAME:ADT
DTSTART:20220313T060000
END:DAYLIGHT
BEGIN:STANDARD
TZOFFSETFROM:-0300
TZOFFSETTO:-0400
TZNAME:AST
DTSTART:20221106T050000
END:STANDARD
BEGIN:DAYLIGHT
TZOFFSETFROM:-0400
TZOFFSETTO:-0300
TZNAME:ADT
DTSTART:20230312T060000
END:DAYLIGHT
BEGIN:STANDARD
TZOFFSETFROM:-0300
TZOFFSETTO:-0400
TZNAME:AST
DTSTART:20231105T050000
END:STANDARD
END:VTIMEZONE
BEGIN:VEVENT
DTSTART;VALUE=DATE:20220523
DTEND;VALUE=DATE:20220524
DTSTAMP:20260420T065719
CREATED:20220822T150836Z
LAST-MODIFIED:20220822T150836Z
UID:628-1653264000-1653350399@steppingstonens.ca
SUMMARY:Closed
DESCRIPTION:Stepping Stone offices will be closed for the statutory holiday.
URL:https://steppingstonens.ca/event/closed-7/
END:VEVENT
BEGIN:VEVENT
DTSTART;TZID=America/Halifax:20220519T100000
DTEND;TZID=America/Halifax:20220519T120000
DTSTAMP:20260420T065719
CREATED:20220822T144844Z
LAST-MODIFIED:20220822T144844Z
UID:626-1652954400-1652961600@steppingstonens.ca
SUMMARY:Abundance
DESCRIPTION:This 6 week program is facilitated by Liz and Mikayla.
URL:https://steppingstonens.ca/event/abundance-18/
END:VEVENT
BEGIN:VEVENT
DTSTART;TZID=America/Halifax:20220517T100000
DTEND;TZID=America/Halifax:20220517T160000
DTSTAMP:20260420T065719
CREATED:20220822T144119Z
LAST-MODIFIED:20220822T144119Z
UID:624-1652781600-1652803200@steppingstonens.ca
SUMMARY:Jewelry Making
DESCRIPTION:Earrings\, necklaces\, bracelets! Use your creativity to make beautiful custom jewelry with us! Call to sign up for individual and group time slots.
URL:https://steppingstonens.ca/event/jewelry-making/
END:VEVENT
BEGIN:VEVENT
DTSTART;TZID=America/Halifax:20220513T100000
DTEND;TZID=America/Halifax:20220513T160000
DTSTAMP:20260420T065719
CREATED:20220822T144011Z
LAST-MODIFIED:20220822T144011Z
UID:622-1652436000-1652457600@steppingstonens.ca
SUMMARY:Haircuts
DESCRIPTION:Connie will be back to give us beautiful haircuts! Please call to register for an appointment.
URL:https://steppingstonens.ca/event/haircuts-4/
END:VEVENT
BEGIN:VEVENT
DTSTART;TZID=America/Halifax:20220512T100000
DTEND;TZID=America/Halifax:20220512T120000
DTSTAMP:20260420T065719
CREATED:20220822T143510Z
LAST-MODIFIED:20220822T143510Z
UID:620-1652349600-1652356800@steppingstonens.ca
SUMMARY:Abundance
DESCRIPTION:This 6 week program is facilitated by Liz and Mikayla.
URL:https://steppingstonens.ca/event/abundance-17/
END:VEVENT
BEGIN:VEVENT
DTSTART;TZID=America/Halifax:20220511T180000
DTEND;TZID=America/Halifax:20220511T200000
DTSTAMP:20260420T065719
CREATED:20220822T143421Z
LAST-MODIFIED:20220822T143421Z
UID:618-1652292000-1652299200@steppingstonens.ca
SUMMARY:Sex Ed with Davy
DESCRIPTION:This workshop is brought to us by Sex Educator Davy Rose. This month’s topic is STIs.
URL:https://steppingstonens.ca/event/sex-ed-with-davy-2/
END:VEVENT
BEGIN:VEVENT
DTSTART;TZID=America/Halifax:20220506T120000
DTEND;TZID=America/Halifax:20220506T160000
DTSTAMP:20260420T065719
CREATED:20220822T142952Z
LAST-MODIFIED:20220822T142952Z
UID:616-1651838400-1651852800@steppingstonens.ca
SUMMARY:Manicures
DESCRIPTION:An esthetician will be coming in to give classic manicures! Please call to register.
URL:https://steppingstonens.ca/event/manicures-2/
END:VEVENT
BEGIN:VEVENT
DTSTART;TZID=America/Halifax:20220505T100000
DTEND;TZID=America/Halifax:20220505T120000
DTSTAMP:20260420T065719
CREATED:20220822T142802Z
LAST-MODIFIED:20220822T142802Z
UID:614-1651744800-1651752000@steppingstonens.ca
SUMMARY:Abundance
DESCRIPTION:This 6 week program is facilitated by Liz and Mikayla.
URL:https://steppingstonens.ca/event/abundance-16/
END:VEVENT
BEGIN:VEVENT
DTSTART;TZID=America/Halifax:20220429T100000
DTEND;TZID=America/Halifax:20220429T160000
DTSTAMP:20260420T065719
CREATED:20220328T170856Z
LAST-MODIFIED:20220328T170856Z
UID:610-1651226400-1651248000@steppingstonens.ca
SUMMARY:Art Journaling
DESCRIPTION:Art journaling is great for mental health and as a creative outlet. This month we will be working on hand maps!
URL:https://steppingstonens.ca/event/art-journaling-2/
END:VEVENT
BEGIN:VEVENT
DTSTART;TZID=America/Halifax:20220428T100000
DTEND;TZID=America/Halifax:20220428T120000
DTSTAMP:20260420T065719
CREATED:20220328T170150Z
LAST-MODIFIED:20220328T170150Z
UID:598-1651140000-1651147200@steppingstonens.ca
SUMMARY:Abundance
DESCRIPTION:This 6 week program is facilitated by Liz and Mikayla.
URL:https://steppingstonens.ca/event/abundance-15/
END:VEVENT
BEGIN:VEVENT
DTSTART;TZID=America/Halifax:20220426T110000
DTEND;TZID=America/Halifax:20220426T120000
DTSTAMP:20260420T065719
CREATED:20220328T170749Z
LAST-MODIFIED:20220328T170749Z
UID:608-1650970800-1650974400@steppingstonens.ca
SUMMARY:Bingo! at Ferguson
DESCRIPTION:Drop by our Ferguson office for Bingo with Kass at 11AM! Lots of great prizes to be won.
URL:https://steppingstonens.ca/event/bingo-at-ferguson-2/
END:VEVENT
BEGIN:VEVENT
DTSTART;TZID=America/Halifax:20220422T090000
DTEND;TZID=America/Halifax:20220422T150000
DTSTAMP:20260420T065719
CREATED:20220328T170623Z
LAST-MODIFIED:20220328T170623Z
UID:606-1650618000-1650639600@steppingstonens.ca
SUMMARY:Massages
DESCRIPTION:Registered Massage Therapist Shayna will be back offering neck and back relaxation massages. Registration is required.
URL:https://steppingstonens.ca/event/massages-2/
END:VEVENT
BEGIN:VEVENT
DTSTART;TZID=America/Halifax:20220421T100000
DTEND;TZID=America/Halifax:20220421T120000
DTSTAMP:20260420T065719
CREATED:20220328T170116Z
LAST-MODIFIED:20220328T170116Z
UID:596-1650535200-1650542400@steppingstonens.ca
SUMMARY:Abundance
DESCRIPTION:This 6 week program is facilitated by Liz and Mikayla.
URL:https://steppingstonens.ca/event/abundance-14/
END:VEVENT
BEGIN:VEVENT
DTSTART;TZID=America/Halifax:20220419T130000
DTEND;TZID=America/Halifax:20220419T150000
DTSTAMP:20260420T065719
CREATED:20220328T170512Z
LAST-MODIFIED:20220328T170512Z
UID:604-1650373200-1650380400@steppingstonens.ca
SUMMARY:ASPEN
DESCRIPTION:Facilitated by TESS\, registration is required. Honorarium will be offered.
URL:https://steppingstonens.ca/event/aspen-5/
END:VEVENT
BEGIN:VEVENT
DTSTART;VALUE=DATE:20220418
DTEND;VALUE=DATE:20220419
DTSTAMP:20260420T065719
CREATED:20220328T170357Z
LAST-MODIFIED:20220328T170357Z
UID:602-1650240000-1650326399@steppingstonens.ca
SUMMARY:Closed
DESCRIPTION:Stepping Stone offices will be closed for the holiday.
URL:https://steppingstonens.ca/event/closed-6/
END:VEVENT
BEGIN:VEVENT
DTSTART;VALUE=DATE:20220415
DTEND;VALUE=DATE:20220416
DTSTAMP:20260420T065719
CREATED:20220328T170329Z
LAST-MODIFIED:20220328T170329Z
UID:600-1649980800-1650067199@steppingstonens.ca
SUMMARY:Closed
DESCRIPTION:Stepping Stone offices will be closed for the holiday.
URL:https://steppingstonens.ca/event/closed-5/
END:VEVENT
BEGIN:VEVENT
DTSTART;TZID=America/Halifax:20220414T100000
DTEND;TZID=America/Halifax:20220414T120000
DTSTAMP:20260420T065719
CREATED:20220328T170025Z
LAST-MODIFIED:20220328T170025Z
UID:594-1649930400-1649937600@steppingstonens.ca
SUMMARY:Abundance
DESCRIPTION:This 6 week program is facilitated by Liz and Mikayla.
URL:https://steppingstonens.ca/event/abundance-13/
END:VEVENT
BEGIN:VEVENT
DTSTART;TZID=America/Halifax:20220413T180000
DTEND;TZID=America/Halifax:20220413T200000
DTSTAMP:20260420T065719
CREATED:20220328T165817Z
LAST-MODIFIED:20220328T165817Z
UID:592-1649872800-1649880000@steppingstonens.ca
SUMMARY:Sex Ed with Davy
DESCRIPTION:This workshop is brought to us by Sex Educator Davy Rose. This month’s topic is Sex Ed 101. Honorarium is $20.
URL:https://steppingstonens.ca/event/sex-ed-with-davy/
END:VEVENT
BEGIN:VEVENT
DTSTART;TZID=America/Halifax:20220407T100000
DTEND;TZID=America/Halifax:20220407T120000
DTSTAMP:20260420T065719
CREATED:20220328T165612Z
LAST-MODIFIED:20220328T165612Z
UID:590-1649325600-1649332800@steppingstonens.ca
SUMMARY:Abundance
DESCRIPTION:This 6 week program is facilitated by Liz and Mikayla.
URL:https://steppingstonens.ca/event/abundance-12/
END:VEVENT
BEGIN:VEVENT
DTSTART;TZID=America/Halifax:20220405T180000
DTEND;TZID=America/Halifax:20220405T190000
DTSTAMP:20260420T065719
CREATED:20220328T165424Z
LAST-MODIFIED:20220328T165424Z
UID:588-1649181600-1649185200@steppingstonens.ca
SUMMARY:Movie Night
DESCRIPTION:Join us for a relaxing movie night with snacks and pizza! Door opens at 6PM.
URL:https://steppingstonens.ca/event/movie-night/
END:VEVENT
BEGIN:VEVENT
DTSTART;TZID=America/Halifax:20220401T120000
DTEND;TZID=America/Halifax:20220401T170000
DTSTAMP:20260420T065719
CREATED:20220325T170102Z
LAST-MODIFIED:20220325T170102Z
UID:586-1648814400-1648832400@steppingstonens.ca
SUMMARY:Manicures
DESCRIPTION:An esthetician will be coming in to give classic manicures! Please call to register.
URL:https://steppingstonens.ca/event/manicures/
END:VEVENT
BEGIN:VEVENT
DTSTART;TZID=America/Halifax:20220331T110000
DTEND;TZID=America/Halifax:20220331T120000
DTSTAMP:20260420T065719
CREATED:20220325T165651Z
LAST-MODIFIED:20220325T165651Z
UID:584-1648724400-1648728000@steppingstonens.ca
SUMMARY:Bingo! at Ferguson
DESCRIPTION:Drop by the Ferguson office for Bingo with Kass! Lots of great prizes to be won.
URL:https://steppingstonens.ca/event/bingo-at-ferguson/
END:VEVENT
BEGIN:VEVENT
DTSTART;TZID=America/Halifax:20220330T093000
DTEND;TZID=America/Halifax:20220330T160000
DTSTAMP:20260420T065719
CREATED:20230321T160504Z
LAST-MODIFIED:20230321T160504Z
UID:798-1648632600-1648656000@steppingstonens.ca
SUMMARY:Haircuts
DESCRIPTION:Hairdressers will be here to give us beautiful haircuts. Sign up opens on the Monday before at 9:30am.
URL:https://steppingstonens.ca/event/haircuts-8/
END:VEVENT
BEGIN:VEVENT
DTSTART;TZID=America/Halifax:20220329T100000
DTEND;TZID=America/Halifax:20220329T160000
DTSTAMP:20260420T065719
CREATED:20220325T165435Z
LAST-MODIFIED:20220325T165435Z
UID:582-1648548000-1648569600@steppingstonens.ca
SUMMARY:Decorating Planters
DESCRIPTION:Decorate your own terra cotta pot and get a cute little plant to go with it! Please call to register.
URL:https://steppingstonens.ca/event/decorating-planters/
END:VEVENT
BEGIN:VEVENT
DTSTART;TZID=America/Halifax:20220325T130000
DTEND;TZID=America/Halifax:20220325T150000
DTSTAMP:20260420T065719
CREATED:20230321T160306Z
LAST-MODIFIED:20230321T160306Z
UID:795-1648213200-1648220400@steppingstonens.ca
SUMMARY:Active Afternoon @ Dartmouth Sportsplex
DESCRIPTION:Join us for a swim or walk on the track. Meet in the foyer at 12:45pm.
URL:https://steppingstonens.ca/event/active-afternoon-dartmouth-sportsplex-6/
END:VEVENT
BEGIN:VEVENT
DTSTART;TZID=America/Halifax:20220325T100000
DTEND;TZID=America/Halifax:20220325T160000
DTSTAMP:20260420T065719
CREATED:20220325T165147Z
LAST-MODIFIED:20220325T165147Z
UID:580-1648202400-1648224000@steppingstonens.ca
SUMMARY:Art Journaling
DESCRIPTION:Art journaling is great for mental health and as a creative outlet. This month we will be drawing Zentangles! Please call to register for a time slot.
URL:https://steppingstonens.ca/event/art-journaling/
END:VEVENT
BEGIN:VEVENT
DTSTART;TZID=America/Halifax:20220323T090000
DTEND;TZID=America/Halifax:20220323T150000
DTSTAMP:20260420T065719
CREATED:20230321T153942Z
LAST-MODIFIED:20230321T153942Z
UID:778-1648026000-1648047600@steppingstonens.ca
SUMMARY:Massages
DESCRIPTION:Please call to sign up for a time slot.
URL:https://steppingstonens.ca/event/massages-6/
END:VEVENT
BEGIN:VEVENT
DTSTART;TZID=America/Halifax:20220322T130000
DTEND;TZID=America/Halifax:20220322T150000
DTSTAMP:20260420T065719
CREATED:20220325T165043Z
LAST-MODIFIED:20220325T165043Z
UID:578-1647954000-1647961200@steppingstonens.ca
SUMMARY:ASPEN
DESCRIPTION:Facilitated by TESS\, registration is required. Honorarium will be offered.
URL:https://steppingstonens.ca/event/aspen-4/
END:VEVENT
BEGIN:VEVENT
DTSTART;TZID=America/Halifax:20220315T100000
DTEND;TZID=America/Halifax:20220315T160000
DTSTAMP:20260420T065719
CREATED:20220325T164943Z
LAST-MODIFIED:20220325T164943Z
UID:576-1647338400-1647360000@steppingstonens.ca
SUMMARY:Decorate Your Own Tumbler
DESCRIPTION:Join us to decorate your own customizable tumbler cup! Please call to register for a time slot.
URL:https://steppingstonens.ca/event/decorate-your-own-tumbler/
END:VEVENT
BEGIN:VEVENT
DTSTART;TZID=America/Halifax:20220315T100000
DTEND;TZID=America/Halifax:20220315T120000
DTSTAMP:20260420T065719
CREATED:20230321T155309Z
LAST-MODIFIED:20230321T155309Z
UID:786-1647338400-1647345600@steppingstonens.ca
SUMMARY:Manicures
DESCRIPTION:Esthetician Tori will be coming in to give classic gel manicures! Sign up opens on Monday the 14th at 9:30am.
URL:https://steppingstonens.ca/event/manicures-5/
END:VEVENT
END:VCALENDAR