BEGIN:VCALENDAR
VERSION:2.0
PRODID:-//Stepping Stone Nova Scotia - ECPv6.15.14//NONSGML v1.0//EN
CALSCALE:GREGORIAN
METHOD:PUBLISH
X-WR-CALNAME:Stepping Stone Nova Scotia
X-ORIGINAL-URL:https://steppingstonens.ca
X-WR-CALDESC:Events for Stepping Stone Nova Scotia
REFRESH-INTERVAL;VALUE=DURATION:PT1H
X-Robots-Tag:noindex
X-PUBLISHED-TTL:PT1H
BEGIN:VTIMEZONE
TZID:America/Halifax
BEGIN:DAYLIGHT
TZOFFSETFROM:-0400
TZOFFSETTO:-0300
TZNAME:ADT
DTSTART:20200308T060000
END:DAYLIGHT
BEGIN:STANDARD
TZOFFSETFROM:-0300
TZOFFSETTO:-0400
TZNAME:AST
DTSTART:20201101T050000
END:STANDARD
BEGIN:DAYLIGHT
TZOFFSETFROM:-0400
TZOFFSETTO:-0300
TZNAME:ADT
DTSTART:20210314T060000
END:DAYLIGHT
BEGIN:STANDARD
TZOFFSETFROM:-0300
TZOFFSETTO:-0400
TZNAME:AST
DTSTART:20211107T050000
END:STANDARD
BEGIN:DAYLIGHT
TZOFFSETFROM:-0400
TZOFFSETTO:-0300
TZNAME:ADT
DTSTART:20220313T060000
END:DAYLIGHT
BEGIN:STANDARD
TZOFFSETFROM:-0300
TZOFFSETTO:-0400
TZNAME:AST
DTSTART:20221106T050000
END:STANDARD
END:VTIMEZONE
BEGIN:VEVENT
DTSTART;TZID=America/Halifax:20211013T100000
DTEND;TZID=America/Halifax:20211013T130000
DTSTAMP:20260420T154055
CREATED:20210927T141735Z
LAST-MODIFIED:20210927T141827Z
UID:504-1634119200-1634130000@steppingstonens.ca
SUMMARY:Abundance
DESCRIPTION:This program is offered in partnership with the Elizabeth Fry Society. If you are interested in joining future sessions please ask to be added to the waitlist!
URL:https://steppingstonens.ca/event/abundance-5/
END:VEVENT
BEGIN:VEVENT
DTSTART;TZID=America/Halifax:20211012T110000
DTEND;TZID=America/Halifax:20211012T140000
DTSTAMP:20260420T154055
CREATED:20210927T141548Z
LAST-MODIFIED:20210927T141548Z
UID:502-1634036400-1634047200@steppingstonens.ca
SUMMARY:Facility Focus Group
DESCRIPTION:What would you want in a new Stepping Stone facility? Sign up required. $25 honorarium.
URL:https://steppingstonens.ca/event/facility-focus-group/
END:VEVENT
BEGIN:VEVENT
DTSTART;VALUE=DATE:20211011
DTEND;VALUE=DATE:20211012
DTSTAMP:20260420T154055
CREATED:20210927T141432Z
LAST-MODIFIED:20210927T174829Z
UID:500-1633910400-1633996799@steppingstonens.ca
SUMMARY:Closed
DESCRIPTION:Stepping Stone is closed for the statutory holiday.
URL:https://steppingstonens.ca/event/closed-3/
END:VEVENT
BEGIN:VEVENT
DTSTART;TZID=America/Halifax:20211008T100000
DTEND;TZID=America/Halifax:20211008T130000
DTSTAMP:20260420T154055
CREATED:20210927T141309Z
LAST-MODIFIED:20210927T141309Z
UID:498-1633687200-1633698000@steppingstonens.ca
SUMMARY:Board Game Brunch
DESCRIPTION:Stop by for a yummy brunch and board games!
URL:https://steppingstonens.ca/event/board-game-brunch/
END:VEVENT
BEGIN:VEVENT
DTSTART;TZID=America/Halifax:20211007T110000
DTEND;TZID=America/Halifax:20211007T140000
DTSTAMP:20260420T154055
CREATED:20210927T135206Z
LAST-MODIFIED:20210927T135206Z
UID:496-1633604400-1633615200@steppingstonens.ca
SUMMARY:Write Your Own Short Story
DESCRIPTION:Sign up to learn about short stories and get creative with Nancy.
URL:https://steppingstonens.ca/event/write-your-own-short-story/
END:VEVENT
BEGIN:VEVENT
DTSTART;TZID=America/Halifax:20211005T110000
DTEND;TZID=America/Halifax:20211005T140000
DTSTAMP:20260420T154055
CREATED:20210927T135018Z
LAST-MODIFIED:20210927T135018Z
UID:494-1633431600-1633442400@steppingstonens.ca
SUMMARY:Fall Harvest BBQ
DESCRIPTION:Come to 9 Ferguson for sausages\, fall pies\, and take home goodies too!
URL:https://steppingstonens.ca/event/fall-harvest-bbq/
END:VEVENT
BEGIN:VEVENT
DTSTART;TZID=America/Halifax:20211001T110000
DTEND;TZID=America/Halifax:20211001T130000
DTSTAMP:20260420T154055
CREATED:20210927T134748Z
LAST-MODIFIED:20210927T134748Z
UID:492-1633086000-1633093200@steppingstonens.ca
SUMMARY:Acupuncture
DESCRIPTION:Acupuncture can be used to treat all kinds of concerns or just to relax. Register for 11AM or 12PM.
URL:https://steppingstonens.ca/event/acupuncture-3/
END:VEVENT
BEGIN:VEVENT
DTSTART;VALUE=DATE:20210930
DTEND;VALUE=DATE:20211001
DTSTAMP:20260420T154055
CREATED:20210831T123642Z
LAST-MODIFIED:20210831T123934Z
UID:488-1632960000-1633046399@steppingstonens.ca
SUMMARY:Closed
DESCRIPTION:Stepping Stone is closed for National Day for Truth and Reconciliation.
URL:https://steppingstonens.ca/event/closed-2/
END:VEVENT
BEGIN:VEVENT
DTSTART;TZID=America/Halifax:20210929T183000
DTEND;TZID=America/Halifax:20210929T193000
DTSTAMP:20260420T154055
CREATED:20210830T130057Z
LAST-MODIFIED:20210830T130057Z
UID:484-1632940200-1632943800@steppingstonens.ca
SUMMARY:Sharing Circle
DESCRIPTION:The topic for our first session will be Mental Health in a pandemic.
URL:https://steppingstonens.ca/event/sharing-circle/
END:VEVENT
BEGIN:VEVENT
DTSTART;TZID=America/Halifax:20210928T130000
DTEND;TZID=America/Halifax:20210928T150000
DTSTAMP:20260420T154055
CREATED:20210830T130005Z
LAST-MODIFIED:20210830T130005Z
UID:482-1632834000-1632841200@steppingstonens.ca
SUMMARY:ASPEN
DESCRIPTION:Facilitated by TESS\, registration is required. Honorarium will be offered.
URL:https://steppingstonens.ca/event/aspen/
END:VEVENT
BEGIN:VEVENT
DTSTART;TZID=America/Halifax:20210924T110000
DTEND;TZID=America/Halifax:20210924T130000
DTSTAMP:20260420T154055
CREATED:20210830T125807Z
LAST-MODIFIED:20210830T125807Z
UID:480-1632481200-1632488400@steppingstonens.ca
SUMMARY:Selfcare: Nail Kits
DESCRIPTION:Drop by Wyse Road and create your own DIY nail care kit!
URL:https://steppingstonens.ca/event/selfcare-nail-kits/
END:VEVENT
BEGIN:VEVENT
DTSTART;TZID=America/Halifax:20210917T110000
DTEND;TZID=America/Halifax:20210917T140000
DTSTAMP:20260420T154055
CREATED:20210830T125627Z
LAST-MODIFIED:20210830T125627Z
UID:478-1631876400-1631887200@steppingstonens.ca
SUMMARY:Yoga
DESCRIPTION:Gentle yoga appropriate for all body types and fitness levels. Register for 11AM or 1PM.
URL:https://steppingstonens.ca/event/yoga-3/
END:VEVENT
BEGIN:VEVENT
DTSTART;TZID=America/Halifax:20210914T090000
DTEND;TZID=America/Halifax:20210914T110000
DTSTAMP:20260420T154055
CREATED:20210830T125252Z
LAST-MODIFIED:20210830T125252Z
UID:476-1631610000-1631617200@steppingstonens.ca
SUMMARY:Naloxone Training
DESCRIPTION:Training on how to use Naloxone\, $10 cash honorarium and Naloxone kit.
URL:https://steppingstonens.ca/event/naloxone-training/
END:VEVENT
BEGIN:VEVENT
DTSTART;TZID=America/Halifax:20210911T110000
DTEND;TZID=America/Halifax:20210911T160000
DTSTAMP:20260420T154055
CREATED:20210830T125147Z
LAST-MODIFIED:20210830T125345Z
UID:474-1631358000-1631376000@steppingstonens.ca
SUMMARY:Art Therapy
DESCRIPTION:Facilitated by Art Therapist Sylvia Calatayud\, register for 11AM or 2PM.
URL:https://steppingstonens.ca/event/art-therapy/
END:VEVENT
BEGIN:VEVENT
DTSTART;TZID=America/Halifax:20210910T110000
DTEND;TZID=America/Halifax:20210910T130000
DTSTAMP:20260420T154055
CREATED:20210830T125056Z
LAST-MODIFIED:20210830T125056Z
UID:472-1631271600-1631278800@steppingstonens.ca
SUMMARY:Acupuncture
DESCRIPTION:Acupuncture can be used to treat all kinds of concerns or just to relax. Register for 11AM or 12PM.
URL:https://steppingstonens.ca/event/acupuncture-2/
END:VEVENT
BEGIN:VEVENT
DTSTART;VALUE=DATE:20210906
DTEND;VALUE=DATE:20210907
DTSTAMP:20260420T154055
CREATED:20210831T123353Z
LAST-MODIFIED:20210831T123754Z
UID:486-1630886400-1630972799@steppingstonens.ca
SUMMARY:Closed
DESCRIPTION:Stepping Stone is closed for the statutory holiday.
URL:https://steppingstonens.ca/event/closed/
END:VEVENT
BEGIN:VEVENT
DTSTART;TZID=America/Halifax:20210831T110000
DTEND;TZID=America/Halifax:20210831T140000
DTSTAMP:20260420T154055
CREATED:20210804T160128Z
LAST-MODIFIED:20210804T160128Z
UID:450-1630407600-1630418400@steppingstonens.ca
SUMMARY:Yoga
DESCRIPTION:Gentle yoga appropriate for all body types and fitness levels. Register on Wednesday\, August 25th by calling (902) 420-0103.
URL:https://steppingstonens.ca/event/yoga-2/
END:VEVENT
BEGIN:VEVENT
DTSTART;TZID=America/Halifax:20210826T110000
DTEND;TZID=America/Halifax:20210826T130000
DTSTAMP:20260420T154055
CREATED:20210804T164711Z
LAST-MODIFIED:20210804T164711Z
UID:458-1629975600-1629982800@steppingstonens.ca
SUMMARY:BBQ
DESCRIPTION:Come join us at 9 Ferguson Rd for a BBQ! No registration required. Rain date is the following day\, Friday August 27th.
URL:https://steppingstonens.ca/event/bbq/
END:VEVENT
BEGIN:VEVENT
DTSTART;TZID=America/Halifax:20210825T100000
DTEND;TZID=America/Halifax:20210825T130000
DTSTAMP:20260420T154055
CREATED:20210805T173352Z
LAST-MODIFIED:20210805T173352Z
UID:467-1629885600-1629896400@steppingstonens.ca
SUMMARY:Abundance
DESCRIPTION:This program is offered in partnership with the Elizabeth Fry Society. If you are interested in joining future sessions please ask to be added to the waitlist and we will offer it again!
URL:https://steppingstonens.ca/event/abundance-4/
END:VEVENT
BEGIN:VEVENT
DTSTART;TZID=America/Halifax:20210824T110000
DTEND;TZID=America/Halifax:20210824T140000
DTSTAMP:20260420T154055
CREATED:20210804T164547Z
LAST-MODIFIED:20210804T164547Z
UID:456-1629802800-1629813600@steppingstonens.ca
SUMMARY:Bingo! with Kass
DESCRIPTION:Lots of prizes to be won! Space is limited\, register on Wednesday\, August 18th by calling (902) 420-0103.
URL:https://steppingstonens.ca/event/bingo-with-kass/
END:VEVENT
BEGIN:VEVENT
DTSTART;TZID=America/Halifax:20210820T110000
DTEND;TZID=America/Halifax:20210820T140000
DTSTAMP:20260420T154055
CREATED:20210804T164350Z
LAST-MODIFIED:20210804T164350Z
UID:454-1629457200-1629468000@steppingstonens.ca
SUMMARY:Acupuncture
DESCRIPTION:Acupuncture can be used to treat all kinds of concerns or just to relax. Register for either 11 am or 12pm by calling (902) 420-0103 on Wednesday\, August 11.
URL:https://steppingstonens.ca/event/acupuncture/
END:VEVENT
BEGIN:VEVENT
DTSTART;VALUE=DATE:20210819
DTEND;VALUE=DATE:20210820
DTSTAMP:20260420T154055
CREATED:20210804T163818Z
LAST-MODIFIED:20210804T163818Z
UID:452-1629331200-1629417599@steppingstonens.ca
SUMMARY:Games Night
DESCRIPTION:Come to Wyse Road for games and enjoy some yummy snacks! Starts at 6:30.
URL:https://steppingstonens.ca/event/games-night/
END:VEVENT
BEGIN:VEVENT
DTSTART;TZID=America/Halifax:20210818T100000
DTEND;TZID=America/Halifax:20210818T130000
DTSTAMP:20260420T154055
CREATED:20210805T173320Z
LAST-MODIFIED:20210805T173320Z
UID:465-1629280800-1629291600@steppingstonens.ca
SUMMARY:Abundance
DESCRIPTION:This program is offered in partnership with the Elizabeth Fry Society. If you are interested in joining future sessions please ask to be added to the waitlist and we will offer it again!
URL:https://steppingstonens.ca/event/abundance-3/
END:VEVENT
BEGIN:VEVENT
DTSTART;TZID=America/Halifax:20210817T110000
DTEND;TZID=America/Halifax:20210817T140000
DTSTAMP:20260420T154055
CREATED:20210804T160009Z
LAST-MODIFIED:20210804T160009Z
UID:448-1629198000-1629208800@steppingstonens.ca
SUMMARY:Yoga
DESCRIPTION:Gentle yoga appropriate for all body types and fitness levels. Register on Wednesday\, August 11th by calling (902) 420-0103.
URL:https://steppingstonens.ca/event/yoga/
END:VEVENT
BEGIN:VEVENT
DTSTART;TZID=America/Halifax:20210813T110000
DTEND;TZID=America/Halifax:20210813T150000
DTSTAMP:20260420T154055
CREATED:20210804T155117Z
LAST-MODIFIED:20210804T155117Z
UID:446-1628852400-1628866800@steppingstonens.ca
SUMMARY:Coverdale
DESCRIPTION:Sign up ahead of time for either 11 am or 1 pm. This program has a $20 cash honorarium. Please register on Wednesday\, August 4 by calling (902) 420-0103.
URL:https://steppingstonens.ca/event/coverdale-2/
END:VEVENT
BEGIN:VEVENT
DTSTART;TZID=America/Halifax:20210812T110000
DTEND;TZID=America/Halifax:20210812T150000
DTSTAMP:20260420T154055
CREATED:20210804T154959Z
LAST-MODIFIED:20210804T154959Z
UID:444-1628766000-1628780400@steppingstonens.ca
SUMMARY:Coverdale
DESCRIPTION:Sign up ahead of time for either 11 am or 1 pm. This program has a $20 cash honorarium. Please register on Wednesday\, August 4 by calling (902) 420-0103.
URL:https://steppingstonens.ca/event/coverdale/
END:VEVENT
BEGIN:VEVENT
DTSTART;TZID=America/Halifax:20210811T100000
DTEND;TZID=America/Halifax:20210811T130000
DTSTAMP:20260420T154055
CREATED:20210805T173230Z
LAST-MODIFIED:20210805T173230Z
UID:463-1628676000-1628686800@steppingstonens.ca
SUMMARY:Abundance
DESCRIPTION:This program is offered in partnership with the Elizabeth Fry Society. If you are interested in joining future sessions please ask to be added to the waitlist and we will offer it again!
URL:https://steppingstonens.ca/event/abundance-2/
END:VEVENT
BEGIN:VEVENT
DTSTART;VALUE=DATE:20210810
DTEND;VALUE=DATE:20210811
DTSTAMP:20260420T154055
CREATED:20210804T154114Z
LAST-MODIFIED:20210804T154114Z
UID:442-1628553600-1628639999@steppingstonens.ca
SUMMARY:Wildlife Park
DESCRIPTION:Join us for a day at the Wildlife Park! We will meet at 260 Wyse Road at 10:00 am. Please call (902) 420-0103 on Wednesday\, August 4 to register.
URL:https://steppingstonens.ca/event/wildlife-park/
END:VEVENT
BEGIN:VEVENT
DTSTART;TZID=America/Halifax:20210806T100000
DTEND;TZID=America/Halifax:20210806T140000
DTSTAMP:20260420T154055
CREATED:20210804T153303Z
LAST-MODIFIED:20210804T153303Z
UID:435-1628244000-1628258400@steppingstonens.ca
SUMMARY:DIY Picture Frames
DESCRIPTION:Stop by Wyse between 10am & 2pm to decorate your own picture frame. Includes everything you need to make a gorgeous frame!
URL:https://steppingstonens.ca/event/diy-picture-frames/
END:VEVENT
BEGIN:VEVENT
DTSTART;TZID=America/Halifax:20210805T100000
DTEND;TZID=America/Halifax:20210805T140000
DTSTAMP:20260420T154055
CREATED:20210804T153841Z
LAST-MODIFIED:20210804T153841Z
UID:440-1628157600-1628172000@steppingstonens.ca
SUMMARY:DIY Picture Frames
DESCRIPTION:Stop by Wyse between 10am & 2pm to decorate your own picture frame. Includes everything you need to make a gorgeous frame!
URL:https://steppingstonens.ca/event/diy-picture-frames-2/
END:VEVENT
END:VCALENDAR