BEGIN:VCALENDAR
VERSION:2.0
PRODID:-//Stepping Stone Nova Scotia - ECPv6.15.14//NONSGML v1.0//EN
CALSCALE:GREGORIAN
METHOD:PUBLISH
X-WR-CALNAME:Stepping Stone Nova Scotia
X-ORIGINAL-URL:https://steppingstonens.ca
X-WR-CALDESC:Events for Stepping Stone Nova Scotia
REFRESH-INTERVAL;VALUE=DURATION:PT1H
X-Robots-Tag:noindex
X-PUBLISHED-TTL:PT1H
BEGIN:VTIMEZONE
TZID:America/Halifax
BEGIN:DAYLIGHT
TZOFFSETFROM:-0400
TZOFFSETTO:-0300
TZNAME:ADT
DTSTART:20190310T060000
END:DAYLIGHT
BEGIN:STANDARD
TZOFFSETFROM:-0300
TZOFFSETTO:-0400
TZNAME:AST
DTSTART:20191103T050000
END:STANDARD
BEGIN:DAYLIGHT
TZOFFSETFROM:-0400
TZOFFSETTO:-0300
TZNAME:ADT
DTSTART:20200308T060000
END:DAYLIGHT
BEGIN:STANDARD
TZOFFSETFROM:-0300
TZOFFSETTO:-0400
TZNAME:AST
DTSTART:20201101T050000
END:STANDARD
BEGIN:DAYLIGHT
TZOFFSETFROM:-0400
TZOFFSETTO:-0300
TZNAME:ADT
DTSTART:20210314T060000
END:DAYLIGHT
BEGIN:STANDARD
TZOFFSETFROM:-0300
TZOFFSETTO:-0400
TZNAME:AST
DTSTART:20211107T050000
END:STANDARD
BEGIN:DAYLIGHT
TZOFFSETFROM:-0400
TZOFFSETTO:-0300
TZNAME:ADT
DTSTART:20220313T060000
END:DAYLIGHT
BEGIN:STANDARD
TZOFFSETFROM:-0300
TZOFFSETTO:-0400
TZNAME:AST
DTSTART:20221106T050000
END:STANDARD
END:VTIMEZONE
BEGIN:VEVENT
DTSTART;TZID=America/Halifax:20210813T110000
DTEND;TZID=America/Halifax:20210813T150000
DTSTAMP:20260420T190055
CREATED:20210804T155117Z
LAST-MODIFIED:20210804T155117Z
UID:446-1628852400-1628866800@steppingstonens.ca
SUMMARY:Coverdale
DESCRIPTION:Sign up ahead of time for either 11 am or 1 pm. This program has a $20 cash honorarium. Please register on Wednesday\, August 4 by calling (902) 420-0103.
URL:https://steppingstonens.ca/event/coverdale-2/
END:VEVENT
BEGIN:VEVENT
DTSTART;TZID=America/Halifax:20210812T110000
DTEND;TZID=America/Halifax:20210812T150000
DTSTAMP:20260420T190055
CREATED:20210804T154959Z
LAST-MODIFIED:20210804T154959Z
UID:444-1628766000-1628780400@steppingstonens.ca
SUMMARY:Coverdale
DESCRIPTION:Sign up ahead of time for either 11 am or 1 pm. This program has a $20 cash honorarium. Please register on Wednesday\, August 4 by calling (902) 420-0103.
URL:https://steppingstonens.ca/event/coverdale/
END:VEVENT
BEGIN:VEVENT
DTSTART;TZID=America/Halifax:20210811T100000
DTEND;TZID=America/Halifax:20210811T130000
DTSTAMP:20260420T190055
CREATED:20210805T173230Z
LAST-MODIFIED:20210805T173230Z
UID:463-1628676000-1628686800@steppingstonens.ca
SUMMARY:Abundance
DESCRIPTION:This program is offered in partnership with the Elizabeth Fry Society. If you are interested in joining future sessions please ask to be added to the waitlist and we will offer it again!
URL:https://steppingstonens.ca/event/abundance-2/
END:VEVENT
BEGIN:VEVENT
DTSTART;VALUE=DATE:20210810
DTEND;VALUE=DATE:20210811
DTSTAMP:20260420T190055
CREATED:20210804T154114Z
LAST-MODIFIED:20210804T154114Z
UID:442-1628553600-1628639999@steppingstonens.ca
SUMMARY:Wildlife Park
DESCRIPTION:Join us for a day at the Wildlife Park! We will meet at 260 Wyse Road at 10:00 am. Please call (902) 420-0103 on Wednesday\, August 4 to register.
URL:https://steppingstonens.ca/event/wildlife-park/
END:VEVENT
BEGIN:VEVENT
DTSTART;TZID=America/Halifax:20210806T100000
DTEND;TZID=America/Halifax:20210806T140000
DTSTAMP:20260420T190055
CREATED:20210804T153303Z
LAST-MODIFIED:20210804T153303Z
UID:435-1628244000-1628258400@steppingstonens.ca
SUMMARY:DIY Picture Frames
DESCRIPTION:Stop by Wyse between 10am & 2pm to decorate your own picture frame. Includes everything you need to make a gorgeous frame!
URL:https://steppingstonens.ca/event/diy-picture-frames/
END:VEVENT
BEGIN:VEVENT
DTSTART;TZID=America/Halifax:20210805T100000
DTEND;TZID=America/Halifax:20210805T140000
DTSTAMP:20260420T190055
CREATED:20210804T153841Z
LAST-MODIFIED:20210804T153841Z
UID:440-1628157600-1628172000@steppingstonens.ca
SUMMARY:DIY Picture Frames
DESCRIPTION:Stop by Wyse between 10am & 2pm to decorate your own picture frame. Includes everything you need to make a gorgeous frame!
URL:https://steppingstonens.ca/event/diy-picture-frames-2/
END:VEVENT
BEGIN:VEVENT
DTSTART;TZID=America/Halifax:20210804T100000
DTEND;TZID=America/Halifax:20210804T130000
DTSTAMP:20260420T190055
CREATED:20210804T183034Z
LAST-MODIFIED:20210804T183034Z
UID:460-1628071200-1628082000@steppingstonens.ca
SUMMARY:Abundance
DESCRIPTION:This program is offered in partnership with the Elizabeth Fry Society. If you are interested in joining future sessions please ask to be added to the waitlist and we will offer it again!
URL:https://steppingstonens.ca/event/abundance/
END:VEVENT
BEGIN:VEVENT
DTSTART;TZID=America/Halifax:20201206T140000
DTEND;TZID=America/Halifax:20201206T170000
DTSTAMP:20260420T190055
CREATED:20201206T180000Z
LAST-MODIFIED:20210126T160831Z
UID:198-1607263200-1607274000@steppingstonens.ca
SUMMARY:Outreach
DESCRIPTION:The Outreach Team provides a presence on the streets 3 evenings a week. The Outreach Team provides information\, condoms\, lube\, sandwiches\, snacks\, and the bad date list. Beyond meeting immediate needs\, the outreach team provides peer support\, and referrals to other community organizations. \nImportant COVID-19 Information: Please remain 6 feet from the car and staff. Staff will leave the bag on the doorstep to eliminate contact.
URL:https://steppingstonens.ca/event/outreach-13/
LOCATION:Halifax\, Halifax\, Nova Scotia\, Canada
END:VEVENT
BEGIN:VEVENT
DTSTART;TZID=America/Halifax:20201203T140000
DTEND;TZID=America/Halifax:20201203T170000
DTSTAMP:20260420T190055
CREATED:20201203T180000Z
LAST-MODIFIED:20201105T195912Z
UID:197-1607004000-1607014800@steppingstonens.ca
SUMMARY:Outreach
DESCRIPTION:The Outreach Team provides a presence on the streets 3 evenings a week. The Outreach Team provides information\, condoms\, lube\, sandwiches\, snacks\, and the bad date list. Beyond meeting immediate needs\, the outreach team provides peer support\, and referrals to other community organizations. \nImportant COVID-19 Information: Please remain 6 feet from the car and staff. Staff will leave the bag on the doorstep to eliminate contact.
URL:https://steppingstonens.ca/event/outreach-12/
LOCATION:Halifax\, Halifax\, Nova Scotia\, Canada
END:VEVENT
BEGIN:VEVENT
DTSTART;TZID=America/Halifax:20201201T140000
DTEND;TZID=America/Halifax:20201201T170000
DTSTAMP:20260420T190055
CREATED:20201201T180000Z
LAST-MODIFIED:20201105T195907Z
UID:196-1606831200-1606842000@steppingstonens.ca
SUMMARY:Outreach
DESCRIPTION:The Outreach Team provides a presence on the streets 3 evenings a week. The Outreach Team provides information\, condoms\, lube\, sandwiches\, snacks\, and the bad date list. Beyond meeting immediate needs\, the outreach team provides peer support\, and referrals to other community organizations. \nImportant COVID-19 Information: Please remain 6 feet from the car and staff. Staff will leave the bag on the doorstep to eliminate contact.
URL:https://steppingstonens.ca/event/outreach-11/
LOCATION:Halifax\, Halifax\, Nova Scotia\, Canada
END:VEVENT
BEGIN:VEVENT
DTSTART;TZID=America/Halifax:20201129T140000
DTEND;TZID=America/Halifax:20201129T170000
DTSTAMP:20260420T190055
CREATED:20201129T180000Z
LAST-MODIFIED:20201105T195903Z
UID:195-1606658400-1606669200@steppingstonens.ca
SUMMARY:Outreach
DESCRIPTION:The Outreach Team provides a presence on the streets 3 evenings a week. The Outreach Team provides information\, condoms\, lube\, sandwiches\, snacks\, and the bad date list. Beyond meeting immediate needs\, the outreach team provides peer support\, and referrals to other community organizations. \nImportant COVID-19 Information: Please remain 6 feet from the car and staff. Staff will leave the bag on the doorstep to eliminate contact.
URL:https://steppingstonens.ca/event/outreach-10/
LOCATION:Halifax\, Halifax\, Nova Scotia\, Canada
END:VEVENT
BEGIN:VEVENT
DTSTART;TZID=America/Halifax:20201126T140000
DTEND;TZID=America/Halifax:20201126T170000
DTSTAMP:20260420T190055
CREATED:20201126T180000Z
LAST-MODIFIED:20201105T195858Z
UID:194-1606399200-1606410000@steppingstonens.ca
SUMMARY:Outreach
DESCRIPTION:The Outreach Team provides a presence on the streets 3 evenings a week. The Outreach Team provides information\, condoms\, lube\, sandwiches\, snacks\, and the bad date list. Beyond meeting immediate needs\, the outreach team provides peer support\, and referrals to other community organizations. \nImportant COVID-19 Information: Please remain 6 feet from the car and staff. Staff will leave the bag on the doorstep to eliminate contact.
URL:https://steppingstonens.ca/event/outreach-9/
LOCATION:Halifax\, Halifax\, Nova Scotia\, Canada
END:VEVENT
BEGIN:VEVENT
DTSTART;TZID=America/Halifax:20201124T140000
DTEND;TZID=America/Halifax:20201124T170000
DTSTAMP:20260420T190055
CREATED:20201124T180000Z
LAST-MODIFIED:20201105T195853Z
UID:193-1606226400-1606237200@steppingstonens.ca
SUMMARY:Outreach
DESCRIPTION:The Outreach Team provides a presence on the streets 3 evenings a week. The Outreach Team provides information\, condoms\, lube\, sandwiches\, snacks\, and the bad date list. Beyond meeting immediate needs\, the outreach team provides peer support\, and referrals to other community organizations. \nImportant COVID-19 Information: Please remain 6 feet from the car and staff. Staff will leave the bag on the doorstep to eliminate contact.
URL:https://steppingstonens.ca/event/outreach-8/
LOCATION:Halifax\, Halifax\, Nova Scotia\, Canada
END:VEVENT
BEGIN:VEVENT
DTSTART;TZID=America/Halifax:20201122T140000
DTEND;TZID=America/Halifax:20201122T170000
DTSTAMP:20260420T190055
CREATED:20201122T180000Z
LAST-MODIFIED:20201105T195849Z
UID:192-1606053600-1606064400@steppingstonens.ca
SUMMARY:Outreach
DESCRIPTION:The Outreach Team provides a presence on the streets 3 evenings a week. The Outreach Team provides information\, condoms\, lube\, sandwiches\, snacks\, and the bad date list. Beyond meeting immediate needs\, the outreach team provides peer support\, and referrals to other community organizations. \nImportant COVID-19 Information: Please remain 6 feet from the car and staff. Staff will leave the bag on the doorstep to eliminate contact.
URL:https://steppingstonens.ca/event/outreach-7/
LOCATION:Halifax\, Halifax\, Nova Scotia\, Canada
END:VEVENT
BEGIN:VEVENT
DTSTART;TZID=America/Halifax:20201119T140000
DTEND;TZID=America/Halifax:20201119T170000
DTSTAMP:20260420T190055
CREATED:20201119T180000Z
LAST-MODIFIED:20201105T195845Z
UID:191-1605794400-1605805200@steppingstonens.ca
SUMMARY:Outreach
DESCRIPTION:The Outreach Team provides a presence on the streets 3 evenings a week. The Outreach Team provides information\, condoms\, lube\, sandwiches\, snacks\, and the bad date list. Beyond meeting immediate needs\, the outreach team provides peer support\, and referrals to other community organizations. \nImportant COVID-19 Information: Please remain 6 feet from the car and staff. Staff will leave the bag on the doorstep to eliminate contact.
URL:https://steppingstonens.ca/event/outreach-6/
LOCATION:Halifax\, Halifax\, Nova Scotia\, Canada
END:VEVENT
BEGIN:VEVENT
DTSTART;TZID=America/Halifax:20201117T140000
DTEND;TZID=America/Halifax:20201117T170000
DTSTAMP:20260420T190055
CREATED:20201117T180000Z
LAST-MODIFIED:20201105T195841Z
UID:190-1605621600-1605632400@steppingstonens.ca
SUMMARY:Outreach
DESCRIPTION:The Outreach Team provides a presence on the streets 3 evenings a week. The Outreach Team provides information\, condoms\, lube\, sandwiches\, snacks\, and the bad date list. Beyond meeting immediate needs\, the outreach team provides peer support\, and referrals to other community organizations. \nImportant COVID-19 Information: Please remain 6 feet from the car and staff. Staff will leave the bag on the doorstep to eliminate contact.
URL:https://steppingstonens.ca/event/outreach-5/
LOCATION:Halifax\, Halifax\, Nova Scotia\, Canada
END:VEVENT
BEGIN:VEVENT
DTSTART;TZID=America/Halifax:20201115T140000
DTEND;TZID=America/Halifax:20201115T170000
DTSTAMP:20260420T190055
CREATED:20201115T180000Z
LAST-MODIFIED:20201105T195829Z
UID:189-1605448800-1605459600@steppingstonens.ca
SUMMARY:Outreach
DESCRIPTION:The Outreach Team provides a presence on the streets 3 evenings a week. The Outreach Team provides information\, condoms\, lube\, sandwiches\, snacks\, and the bad date list. Beyond meeting immediate needs\, the outreach team provides peer support\, and referrals to other community organizations. \nImportant COVID-19 Information: Please remain 6 feet from the car and staff. Staff will leave the bag on the doorstep to eliminate contact.
URL:https://steppingstonens.ca/event/outreach-4/
LOCATION:Halifax\, Halifax\, Nova Scotia\, Canada
END:VEVENT
BEGIN:VEVENT
DTSTART;TZID=America/Halifax:20201112T140000
DTEND;TZID=America/Halifax:20201112T170000
DTSTAMP:20260420T190055
CREATED:20201112T180000Z
LAST-MODIFIED:20201105T195835Z
UID:188-1605189600-1605200400@steppingstonens.ca
SUMMARY:Outreach
DESCRIPTION:The Outreach Team provides a presence on the streets 3 evenings a week. The Outreach Team provides information\, condoms\, lube\, sandwiches\, snacks\, and the bad date list. Beyond meeting immediate needs\, the outreach team provides peer support\, and referrals to other community organizations. \nImportant COVID-19 Information: Please remain 6 feet from the car and staff. Staff will leave the bag on the doorstep to eliminate contact.
URL:https://steppingstonens.ca/event/outreach-3/
LOCATION:Halifax\, Halifax\, Nova Scotia\, Canada
END:VEVENT
BEGIN:VEVENT
DTSTART;TZID=America/Halifax:20201110T140000
DTEND;TZID=America/Halifax:20201110T170000
DTSTAMP:20260420T190055
CREATED:20201110T180000Z
LAST-MODIFIED:20201105T195820Z
UID:187-1605016800-1605027600@steppingstonens.ca
SUMMARY:Outreach
DESCRIPTION:The Outreach Team provides a presence on the streets 3 evenings a week. The Outreach Team provides information\, condoms\, lube\, sandwiches\, snacks\, and the bad date list. Beyond meeting immediate needs\, the outreach team provides peer support\, and referrals to other community organizations. \nImportant COVID-19 Information: Please remain 6 feet from the car and staff. Staff will leave the bag on the doorstep to eliminate contact.
URL:https://steppingstonens.ca/event/outreach-2/
LOCATION:Halifax\, Halifax\, Nova Scotia\, Canada
END:VEVENT
BEGIN:VEVENT
DTSTART;TZID=America/Halifax:20201108T140000
DTEND;TZID=America/Halifax:20201108T170000
DTSTAMP:20260420T190055
CREATED:20201108T180000Z
LAST-MODIFIED:20201105T195925Z
UID:183-1604844000-1604854800@steppingstonens.ca
SUMMARY:Outreach
DESCRIPTION:The Outreach Team provides a presence on the streets 3 evenings a week. The Outreach Team provides information\, condoms\, lube\, sandwiches\, snacks\, and the bad date list. Beyond meeting immediate needs\, the outreach team provides peer support\, and referrals to other community organizations. \nImportant COVID-19 Information: Please remain 6 feet from the car and staff. Staff will leave the bag on the doorstep to eliminate contact.
URL:https://steppingstonens.ca/event/outreach/
LOCATION:Halifax\, Halifax\, Nova Scotia\, Canada
END:VEVENT
END:VCALENDAR